BEGIN:VCALENDAR
VERSION:2.0
PRODID:-//wp-events-plugin.com//7.2.3.1//EN
TZID:America/New_York
X-WR-TIMEZONE:America/New_York
BEGIN:VEVENT
UID:1-10@xn--qubec-csa.tk
DTSTART;TZID=America/New_York:20231120T170000
DTEND;TZID=America/New_York:20231120T190000
DTSTAMP:20231028T060312Z
URL:https://xn--qubec-csa.tk/agenda/cinquieme-reunion-dinitiative-quebec-i
 q5/
SUMMARY:Cinquième réunion d'Initiative Québec (iQ5)
DESCRIPTION:Initiative Québec s'active à mettre en place à Québec un r
 éseau d'échange basé sur le travail et un système de crédit collectif
  en points loco\, offrant une alternative fonctionnelle à l'argent.\n\n\n
 \n\n\nLes trois premières réunions nous ont permis de rassembler un comi
 té exécutif en charge du développement du projet\, de constituer une so
 ciété en participation provisoire\, d'établir un cadre de travail agile
 \, de répartir les responsabilités entre différents groupes de travail 
 et d'autoriser Initiative Québec à rétribuer le travail des participant
 s en points loco.\n\nAu cours de cette cinquième réunion\, on constatera
  le travail accompli dans les 4 dernières semaines par chaque groupe de t
 ravail\, et chacun sélectionnera les tâches à accomplir pendant la dur
 ée du prochain sprint de 4 semaines. Une résolution sera également adop
 tée pour ajouter une nouvelle administratrice au comité exécutif.\n\nLa
  réunion est ouverte à toute personne intéressée. Vous pourrez assiste
 r à la revue de sprint et participer à la planification du prochain spri
 nt\, ce qui vous permettra de voir ce qui est concrètement mis en place\,
  et quels sont les besoins immédiats. Vous pourrez alors décider de vous
  joindre à un groupe de travail existant\, en fonction de vos disponibili
 tés. Un temps est également prévu après la réunion pour discuter des 
 idées que le projet pourrait vous inspirer.\n\nLe projet vous intéresse 
 ? Venez nous rencontrer !\nConsultez nos événements\n\n\n\nUn réseau d'
 échange de travail\nUn réseau d'échange en locos permet la valorisation
  et l'échange de travail sans faire intervenir d'argent. Les points loco 
 permettent de mobiliser et de rétribuer l'effort des participants dans le
  cadre d'initiatives dont l'utilité est reconnue par la communauté.\nUn 
 accélérateur de changement\nInitiative Québec prendra la forme concrèt
 e d'une plateforme de sociofinancement\, couplée à un offre de services 
 d'hôte fiscal\, de fiducie bancaire\, d'encadrement et d'accompagnement a
 insi qu'une foule de ressources pour favoriser le démarrage rapide et l'a
 utonomie d'une multitude d'initiatives collectives répondant aux besoins 
 et aux aspirations de la communauté des membres du réseau.
ATTACH;FMTTYPE=image/jpeg:https://xn--qubec-csa.tk/wp-content/uploads/2023
 /10/initiative-quebec-720x200-noir-1.png
CATEGORIES:Conférences
LOCATION:Centre de jour Feu Vert\, 1410\, rue de la Trinité\, Québec\, Ca
 pitale-Nationale\, G1L 3B5\, Québec\, Canada
GEO:46.834128;-71.220823
X-APPLE-STRUCTURED-LOCATION;VALUE=URI;X-ADDRESS=1410\, rue de la Trinité\,
  Québec\, Capitale-Nationale\, G1L 3B5\, Québec\, Canada;X-APPLE-RADIUS=
 100;X-TITLE=Centre de jour Feu Vert:geo:46.834128,-71.220823
END:VEVENT
BEGIN:VTIMEZONE
TZID:America/New_York
X-LIC-LOCATION:America/New_York
BEGIN:STANDARD
DTSTART:20231105T010000
TZOFFSETFROM:-0400
TZOFFSETTO:-0500
TZNAME:EST
END:STANDARD
END:VTIMEZONE
END:VCALENDAR