BEGIN:VCALENDAR
VERSION:2.0
PRODID:-//wp-events-plugin.com//7.2.3.1//EN
TZID:America/New_York
X-WR-TIMEZONE:America/New_York
BEGIN:VEVENT
UID:1-27@xn--qubec-csa.tk
DTSTART;TZID=America/New_York:20240422T190000
DTEND;TZID=America/New_York:20240422T210000
DTSTAMP:20240422T213011Z
URL:https://xn--qubec-csa.tk/agenda/dixieme-reunion-dinitiative-quebec-iq1
 0/
SUMMARY:Dixième réunion d’Initiative Québec (iQ10)
DESCRIPTION:Au programme :\n\n\n 	19:00 Réunion éclair du comité exécut
 if d’Initiative Québec (~15 min)\n 	19:15 Atelier sur le fonctionnement
  du réseau loco (~45 min)\n 	20:00 Deuxième heure : session de travail s
 ur les projets pilotes (~50 min)\n\n\n\n\nInitiative Québec s’active à
  mettre en place à Québec un réseau d’échange basé sur le travail e
 t un système de crédit collectif en points loco\, offrant une alternativ
 e fonctionnelle à l’argent.\n\n\n\n\n\nLes premières réunions nous on
 t permis de constituer une société en participation provisoire et un com
 ité exécutif\, d’établir un cadre de travail agile\, de répartir les
  responsabilités entre différents groupes de travail et d’autoriser In
 itiative Québec à rétribuer le travail des participants et des partenai
 res avec des points loco.\n\nDans la première partie de chaque réunion\,
  l’équipe d’Initiative Québec constate le travail accompli dans les 
 4 dernières semaines par chaque groupe de travail\, adopte l’objectif d
 u sprint suivant et chacun sélectionne les tâches à accomplir. Si le co
 mité exécutif doit ratifier des décisions\, les résolutions sont adopt
 ées en début de réunion.\n\nLa deuxième heure est consacrée aux proje
 ts pilotes qui participent au réseau d’échange. Les projets seront pr
 ésentés par leurs initiateurs\, qui exposeront leurs besoins immédiats 
 et futurs. C’est l’occasion de poser des questions\, de proposer des s
 olutions\, de recruter des volontaires parmi les participants\, de fixer d
 es objectifs immédiats\, d’échanger des contacts et de planifier des s
 essions de travail collaboratif.\n\nLes personnes présentes pourront libr
 ement partager leur perspective\, leur expérience\, leurs idées et leurs
  projets\, proposer leurs compétences et se joindre aux différentes sess
 ions travail en fonction de leur intérêt et de leur motivation.\n\nLe pr
 ojet t’intéresse ? Viens nous rencontrer !\nConsulte nos événements\n
 \n\n\nUn réseau d’échange de travail\nUn réseau d’échange en locos
  permet la valorisation et l’échange de travail sans faire intervenir d
 ’argent. Les points loco permettent de mobiliser et de rétribuer l’ef
 fort des participants dans le cadre d’initiatives dont l’utilité est 
 reconnue par la communauté.\nUn accélérateur de changement\nInitiative 
 Québec prendra bientôt la forme concrète d’une plateforme de sociofin
 ancement\, couplée à un offre de services d’hôte fiscal\, de fiducie 
 bancaire\, d’encadrement et d’accompagnement ainsi qu’une foule de r
 essources pour favoriser le démarrage rapide et l’autonomie d’une mul
 titude d’initiatives collectives répondant aux besoins et aux aspiratio
 ns de la communauté des membres du réseau.
ATTACH;FMTTYPE=image/jpeg:https://xn--qubec-csa.tk/wp-content/uploads/2024
 /04/initiative-quebec-fond-x-loco-1024x512-1.png
CATEGORIES:Conférences
LOCATION:Centre de jour Feu Vert\, 1410\, rue de la Trinité\, Québec\, Ca
 pitale-Nationale\, G1L 3B5\, Québec\, Canada
GEO:46.834128;-71.220823
X-APPLE-STRUCTURED-LOCATION;VALUE=URI;X-ADDRESS=1410\, rue de la Trinité\,
  Québec\, Capitale-Nationale\, G1L 3B5\, Québec\, Canada;X-APPLE-RADIUS=
 100;X-TITLE=Centre de jour Feu Vert:geo:46.834128,-71.220823
END:VEVENT
BEGIN:VTIMEZONE
TZID:America/New_York
X-LIC-LOCATION:America/New_York
BEGIN:DAYLIGHT
DTSTART:20240310T030000
TZOFFSETFROM:-0500
TZOFFSETTO:-0400
TZNAME:EDT
END:DAYLIGHT
END:VTIMEZONE
END:VCALENDAR