BEGIN:VCALENDAR
VERSION:2.0
PRODID:-//wp-events-plugin.com//7.2.3.1//EN
TZID:America/New_York
X-WR-TIMEZONE:America/New_York
BEGIN:VEVENT
UID:1-12@xn--qubec-csa.tk
DTSTART;TZID=America/New_York:20231025T190000
DTEND;TZID=America/New_York:20231025T191500
DTSTAMP:20231101T125423Z
URL:https://xn--qubec-csa.tk/agenda/melee-de-sprint-iq4-2023-10-25/
SUMMARY:Mêlée de sprint (iQ4)
DESCRIPTION:Mêlée hebdomadaire de sprint de l'équipe Initiative Québec\
 nDate : le mercredi à 19h\nOù : service de conférence en ligne Jitsi Me
 et de FACiL\n\n 	💻PC/Mac : pas besoin d’application\, cliquez sur le 
 lien et autorisez l’accès à votre caméra et votre micro\n 	📱Télé
 phone mobile : on vous offrira d’installer l’application Jitsi (gratui
 te) \; vous pouvez l’installer en moins d’une minute (Download from Ap
 p Store)\, visiter le lien à nouveau et cliquer sur le bouton « Join in
  app » \; ou tout simplement sauter cette étape et cliquer sur « Join
  in browser » (ça a l’air de marcher !)\n\n&nbsp\;\nDurant un sprint\
 , l’équipe vérifie lors de la mêlée quotidienne (Daily Scrum ou stan
 d-up)\, l’avancement du travail. L’objectif de cette réunion est d’
 identifier les bloqueurs et les défis qui pourraient avoir un impact sur 
 la capacité de l’équipe à atteindre l’objectif du sprint.\n\n(Sourc
 e : https://www.atlassian.com/fr/agile/scrum/sprints)\n&nbsp\;
ATTACH;FMTTYPE=image/jpeg:https://xn--qubec-csa.tk/wp-content/uploads/2023
 /11/image_2023-11-01_084916558.png
CATEGORIES:Événements virtuels
LOCATION:https://conference.facil.services/InitiativeQu%C3%A9bec
END:VEVENT
BEGIN:VTIMEZONE
TZID:America/New_York
X-LIC-LOCATION:America/New_York
BEGIN:DAYLIGHT
DTSTART:20230312T030000
TZOFFSETFROM:-0500
TZOFFSETTO:-0400
TZNAME:EDT
END:DAYLIGHT
END:VTIMEZONE
END:VCALENDAR