BEGIN:VCALENDAR
VERSION:2.0
PRODID:-//wp-events-plugin.com//7.2.3.1//EN
TZID:America/New_York
X-WR-TIMEZONE:America/New_York
BEGIN:VEVENT
UID:1-24@xn--qubec-csa.tk
DTSTART;TZID=America/New_York:20240117T180000
DTEND;TZID=America/New_York:20240117T181500
DTSTAMP:20240109T001358Z
URL:https://xn--qubec-csa.tk/agenda/melee-de-sprint-iq6-2024-01-17/
SUMMARY:Mêlée de sprint (iQ6)
DESCRIPTION:Mêlée hebdomadaire de sprint de l’équipe Initiative Québe
 c\nDate : le mercredi à 18h\nOù : service de conférence en ligne Jitsi 
 Meet de FACiL\n\n 	💻PC/Mac : pas besoin d’application\, cliquez sur 
 le lien et autorisez l’accès à votre caméra et votre micro\n 	📱Té
 léphone mobile : on vous offrira d’installer l’application Jitsi (gr
 atuite) \; vous pouvez l’installer en moins d’une minute (Download fro
 m App Store)\, visiter le lien à nouveau et cliquer sur le bouton « Joi
 n in app » \; ou tout simplement sauter cette étape et cliquer sur « 
 Join in browser » (ça a l’air de marcher !)\n\nDurant un sprint\, l
 ’équipe vérifie lors de la mêlée quotidienne (Daily Scrum ou stand
 -up)\, l’avancement du travail. L’objectif de cette réunion est d’i
 dentifier les bloqueurs et les défis qui pourraient avoir un impact sur l
 a capacité de l’équipe à atteindre l’objectif du sprint.\n\n(Source
  : https://www.atlassian.com/fr/agile/scrum/sprints)
ATTACH;FMTTYPE=image/jpeg:https://xn--qubec-csa.tk/wp-content/uploads/2024
 /01/illustration-antique-du-livre-de-sport-action-de-football-rugby-159921
 112.jpg
CATEGORIES:Événements virtuels
LOCATION:https://conference.facil.services/InitiativeQu%C3%A9bec
END:VEVENT
BEGIN:VTIMEZONE
TZID:America/New_York
X-LIC-LOCATION:America/New_York
BEGIN:STANDARD
DTSTART:20231105T010000
TZOFFSETFROM:-0400
TZOFFSETTO:-0500
TZNAME:EST
END:STANDARD
END:VTIMEZONE
END:VCALENDAR